BEGIN:VCALENDAR
BEGIN:VEVENT
CLASS:PUBLIC
CREATED:20260422T204451
DESCRIPTION:Este taller fue desarrollado por EL Centro Nacional de Prevención de la intimidación DE PACER. Está destinado a padres y profesionales para explorar la dinámica de la intimidación para que puedan aprender qué hacer y ayudar a los niños a abordar el problema. Los temas consisten en: Quién es intimidado; por qué los niños son intimidados; el papel que juegan las escuelas; leyes y políticas; y estrategias de prevención de la intimidación.

Este taller se llevará a cabo utilizando Zoom. Después de registrarse, recibirá una invitación para unirse a la reunión de Zoom.
DTEND:20220607T160000
DTSTAMP:20260422T204451
DTSTART:20220607T140000
LAST-MODIFIED:20091109T101015Z
LOCATION:(ONLINE), , , , 
SUMMARY;LANGUAGE=en-us:Prevención de Bullying WEBINAR
BEGIN:VALARM
TRIGGER:-PT1440M
ACTION:DISPLAY
DESCRIPTION:Reminder
END:VALARM
END:VEVENT
END:VCALENDAR
