BEGIN:VCALENDAR
BEGIN:VEVENT
CLASS:PUBLIC
CREATED:20260422T221457
DESCRIPTION:Transitions can be filled with anticipation and questions about what happens next. Come join us to learn about the ins and outs of what parents can do to prepare for middle school, as well as tips and strategies that can be used once students make the transition.

This workshop will be conducted using Zoom. After registering, you will receive an invitation to join the Zoom meeting.
DTEND:20220503T103000
DTSTAMP:20260422T221457
DTSTART:20220503T083000
LAST-MODIFIED:20091109T101015Z
LOCATION:(ONLINE), , , , 
SUMMARY;LANGUAGE=en-us:Transition to Middle School WEBINAR
BEGIN:VALARM
TRIGGER:-PT1440M
ACTION:DISPLAY
DESCRIPTION:Reminder
END:VALARM
END:VEVENT
END:VCALENDAR
