BEGIN:VCALENDAR
BEGIN:VEVENT
CLASS:PUBLIC
CREATED:20260422T234929
DESCRIPTION:This workshop provides a detailed overview of early intervention and transition services at age three to families and professionals who serve infants and toddlers with disabilities. It also includes information about procedural safeguards and tips and pointers for a successful transition.

This workshop will be conducted using Zoom. After registering, you will receive an invitation to join the Zoom meeting.
DTEND:20220210T163000
DTSTAMP:20260422T234929
DTSTART:20220210T143000
LAST-MODIFIED:20091109T101015Z
LOCATION:(ONLINE), , , , 
SUMMARY;LANGUAGE=en-us:Navigating Early Intervention WEBINAR
BEGIN:VALARM
TRIGGER:-PT1440M
ACTION:DISPLAY
DESCRIPTION:Reminder
END:VALARM
END:VEVENT
END:VCALENDAR
