BEGIN:VCALENDAR
BEGIN:VEVENT
CLASS:PUBLIC
CREATED:20260423T014443
DESCRIPTION:삶의 문제로 어려움을 겪고 있는 십대 또는 십대 이전 학생이라면 이 웨 나가 적합합니다! 학교 폐쇄/개학, 사이버 괴롭힘 및 정신 건강과 관련 여 귀하와 동료가 직면한 우려 사항과 대처하는 데 도움이 되는 전략 및 리 스에 대해 알아보려면 저희와 함께 하십시오. 부모님들도 환영합 다! 십대 자녀를 돕기 위한 전략이 제공될 것입니다.

이 워크샵은 줌으로 진행 될 것입니다. 등록후에, 줌 미팅 참여 할 수 있 초대 장을 받으실 것 입니다.
DTEND:20220124T200000
DTSTAMP:20260423T014443
DTSTART:20220124T180000
LAST-MODIFIED:20091109T101015Z
LOCATION:(ONLINE), , , , 
SUMMARY;LANGUAGE=en-us:청소년들의 음성은 중요 합니다: 대면 수업으로 돌아가기 웹이나
BEGIN:VALARM
TRIGGER:-PT1440M
ACTION:DISPLAY
DESCRIPTION:Reminder
END:VALARM
END:VEVENT
END:VCALENDAR
