BEGIN:VCALENDAR
BEGIN:VEVENT
CLASS:PUBLIC
CREATED:20260423T013851
DESCRIPTION:En este seminario web estaremos dando una combinación de dos talleres. Se guiará a los padres sobre los pormenores de lo que puede estar haciendo ahora para ayudar a su hijo/a a prepararse para la escuela secundaria, así como consejos y estrategias que se pueden utilizar una vez que los estudiantes hacen la
transición. También se proporcionará a los padres información básica acerca de los cambios que la pubertad y la adolescencia traen a todos los niños, incluyendo a su hijo/a. El objetivo final es promover la independencia, la seguridad personal, estilos de vida saludables, relaciones saludables y la inclusión social de los jóvenes con discapacidades.

Este taller se llevará con FERIA y La Voz Padres Latinos a cabo utilizando Zoom. Después de registrarse, recibirá una invitación para unirse a la reunión de Zoom.
DTEND:20220119T200000
DTSTAMP:20260423T013851
DTSTART:20220119T180000
LAST-MODIFIED:20091109T101015Z
LOCATION:(ONLINE), , , , 
SUMMARY;LANGUAGE=en-us:Transicion a la Escuela Intermedia y El Viaje a través de la Adolescencia WEBINAR
BEGIN:VALARM
TRIGGER:-PT1440M
ACTION:DISPLAY
DESCRIPTION:Reminder
END:VALARM
END:VEVENT
END:VCALENDAR
