BEGIN:VCALENDAR
BEGIN:VEVENT
CLASS:PUBLIC
CREATED:20260423T014052
DESCRIPTION:Come join us to learn how to be more comfortable and confident as you help your child safely navigate puberty and adolescence. You will learn how to work with your child during this important transition from childhood to adult life and help them gain independence, personal safety skills, healthy lifestyle, healthy relationships and social inclusion. This workshop is geared for parents of middle and high school students.

This workshop will be conducted using Zoom. After registering, you will receive an invitation to join the Zoom meeting
DTEND:20220113T160000
DTSTAMP:20260423T014052
DTSTART:20220113T140000
LAST-MODIFIED:20091109T101015Z
LOCATION:(ONLINE), , , , 
SUMMARY;LANGUAGE=en-us:Journey through Adolescence WEBINAR
BEGIN:VALARM
TRIGGER:-PT1440M
ACTION:DISPLAY
DESCRIPTION:Reminder
END:VALARM
END:VEVENT
END:VCALENDAR
