BEGIN:VCALENDAR
BEGIN:VEVENT
CLASS:PUBLIC
CREATED:20260423T013617
DESCRIPTION:Los padres a menudo tienen preguntas sobre que esperar cuando su hijo ingresa a la escuela intermedia. Este seminario web proporcionara información sobre lo que pueden hacer ahora para ayudar a preparar a su hijo para el cambio, así como consejos y estrategias que se pueden utilizar una vez que los estudiantes hagan la transición.

Este taller se llevará a cabo utilizando Zoom. Después de registrarse, recibirá una invitación para unirse a la reunión de Zoom.
DTEND:20211221T130000
DTSTAMP:20260423T013617
DTSTART:20211221T110000
LAST-MODIFIED:20091109T101015Z
LOCATION:(ONLINE), , , , 
SUMMARY;LANGUAGE=en-us:La Transición a la Escuela Intermedia WEBINAR
BEGIN:VALARM
TRIGGER:-PT1440M
ACTION:DISPLAY
DESCRIPTION:Reminder
END:VALARM
END:VEVENT
END:VCALENDAR
