BEGIN:VCALENDAR
BEGIN:VEVENT
CLASS:PUBLIC
CREATED:20260422T235906
DESCRIPTION:This webinar will introduce low, mid and high tech AAC devices and varied options. Participants will leave with a thorough understanding of what AAC is, where to obtain it, and who may benefit. Hand-out will include a comprehensive list of AAC resources.

This workshop will be conducted using Zoom. After registering, you will receive an invitation to join the Zoom meeting.
DTEND:20220318T120000
DTSTAMP:20260422T235906
DTSTART:20220318T100000
LAST-MODIFIED:20091109T101015Z
LOCATION:(ONLINE), , , , 
SUMMARY;LANGUAGE=en-us:Let's Talk AAC WEBINAR
BEGIN:VALARM
TRIGGER:-PT1440M
ACTION:DISPLAY
DESCRIPTION:Reminder
END:VALARM
END:VEVENT
END:VCALENDAR
