BEGIN:VCALENDAR
BEGIN:VEVENT
CLASS:PUBLIC
CREATED:20260422T235502
DESCRIPTION:Acompáñenos mientras navegamos por las \"salas de juegos virtuales\" de TASK. Hemos creado cuatro salas diferentes para explorar: Sensorial, Matemática, Lectura y Aprendizaje Temprano. Las demostraremos todas, y los asistentes recibirán copias digitales gratuitas de cada sala al final de la presentación. Estas salas de juegos son para edades de 3 a 14 años o más y podrían usarse fácilmente para seguir aprendiendo de una manera divertida durante las vacaciones de primavera, en los meses de verano y en cualquier momento.

Este taller se llevará a cabo utilizando Zoom. Después de registrarse, recibirá una invitación para unirse a la reunión de Zoom.
DTEND:20220302T113000
DTSTAMP:20260422T235502
DTSTART:20220302T100000
LAST-MODIFIED:20091109T101015Z
LOCATION:(ONLINE), , , , 
SUMMARY;LANGUAGE=en-us:Salas de Juegos Virtuales: Recursos en Línea Gratuitos para Familias WEBINAR
BEGIN:VALARM
TRIGGER:-PT1440M
ACTION:DISPLAY
DESCRIPTION:Reminder
END:VALARM
END:VEVENT
END:VCALENDAR
