BEGIN:VCALENDAR
BEGIN:VEVENT
CLASS:PUBLIC
CREATED:20260423T030801
DESCRIPTION:Joven, ¡este seminario web es para ti! Únete a nosotros para aprender cómo abogar por tí mismo en el lugar de trabajo, adaptaciones laborales, divulgación de la discapacidad y comprensión de la discapacidad. Este seminario web está dirigido a jóvenes de 14 años en adelante. ¡Los padres son bienvenidos!

Este taller se llevará a cabo utilizando Zoom. Después de registrarse, recibirá una invitación para unirse a la reunión de Zoom.
DTEND:20211123T130000
DTSTAMP:20260423T030801
DTSTART:20211123T110000
LAST-MODIFIED:20091109T101015Z
LOCATION:(ONLINE), , , , 
SUMMARY;LANGUAGE=en-us:Concienciación sobre Discapacidad en el Lugar de Trabajo WEBINAR
BEGIN:VALARM
TRIGGER:-PT1440M
ACTION:DISPLAY
DESCRIPTION:Reminder
END:VALARM
END:VEVENT
END:VCALENDAR
