BEGIN:VCALENDAR
BEGIN:VEVENT
CLASS:PUBLIC
CREATED:20260423T031328
DESCRIPTION:¿Te has preguntado qué hacer cuando parece que la comunicación se ha interrumpido? Únase a nosotros para aprender técnicas para construir puentes de colaboración entre el hogar y la escuela.

Este taller se llevará a cabo utilizando Zoom. Después de registrarse, recibirá una invitación para unirse a la reunión de Zoom.
DTEND:20211013T130000
DTSTAMP:20260423T031328
DTSTART:20211013T110000
LAST-MODIFIED:20091109T101015Z
LOCATION:(ONLINE), , , , 
SUMMARY;LANGUAGE=en-us:Habilidades de Comunicación Efectiva WEBINAR
BEGIN:VALARM
TRIGGER:-PT1440M
ACTION:DISPLAY
DESCRIPTION:Reminder
END:VALARM
END:VEVENT
END:VCALENDAR
