BEGIN:VCALENDAR
BEGIN:VEVENT
CLASS:PUBLIC
CREATED:20260423T031139
DESCRIPTION:¿Le parecen abrumadores y confusos los procesos del IFSP y del IEP? Únase a nosotros para aprender acerca de la Intervención Temprana y Educación Especial, la terminología que se utiliza durante las reuniones y en documentos IFSP/IEP; y consejos para ayudarle a navegar con éxito cada sistema. Este taller está dirigido a padres de niños desde el nacimiento hasta la edad de 6 años.

Este taller se llevará con FERIA y La Voz Padres Latinos a cabo utilizando Zoom. Después de registrarse, recibirá una invitación para unirse a la reunión de Zoom.
DTEND:20211020T200000
DTSTAMP:20260423T031139
DTSTART:20211020T180000
LAST-MODIFIED:20091109T101015Z
LOCATION:(ONLINE), , , , 
SUMMARY;LANGUAGE=en-us:Navegando Intervención Temprana y Servicios de Transición WEBINAR
BEGIN:VALARM
TRIGGER:-PT1440M
ACTION:DISPLAY
DESCRIPTION:Reminder
END:VALARM
END:VEVENT
END:VCALENDAR
