BEGIN:VCALENDAR
BEGIN:VEVENT
CLASS:PUBLIC
CREATED:20260423T014253
DESCRIPTION:Join us to learn skills to be successfully employed! This interactive workshop will help teens and young adults learn tools to find a job, keep a job, self-advocate while on the job, and communicate and practice social etiquette.

Transition-age youth and family members are welcome at this workshop.

This workshop will be conducted using Zoom. After registering, you will receive an invitation to join the Zoom meeting.

DTEND:20211217T110000
DTSTAMP:20260423T014253
DTSTART:20211217T090000
LAST-MODIFIED:20091109T101015Z
LOCATION:(ONLINE), , , , 
SUMMARY;LANGUAGE=en-us:Getting and Keeping Your First Job WEBINAR
BEGIN:VALARM
TRIGGER:-PT1440M
ACTION:DISPLAY
DESCRIPTION:Reminder
END:VALARM
END:VEVENT
END:VCALENDAR
