BEGIN:VCALENDAR
BEGIN:VEVENT
CLASS:PUBLIC
CREATED:20260423T030908
DESCRIPTION:Este taller proporcionará a los padres información básica sobre los cambios que la pubertad y la adolescencia traen a cada niño, incluido su hijo o hija. La información está destinada a ayudar a los participantes a sentirse más cómodos y seguros mientras ayudan a sus hijos a navegar con seguridad esta importante transición de la niñez a la edad adulta. El objetivo último es promover la independencia, la seguridad personal, los estilos de vida saludables, las relaciones saludables y la inclusión social de los jóvenes con discapacidad. Este taller es apropiado para padres de estudiantes de primaria y secundaria.

Este taller se llevará a cabo utilizando Zoom. Después de registrarse, recibirá una invitación para unirse a la reunión de Zoom.
DTEND:20211119T110000
DTSTAMP:20260423T030908
DTSTART:20211119T090000
LAST-MODIFIED:20091109T101015Z
LOCATION:(ONLINE), , , , 
SUMMARY;LANGUAGE=en-us:El Viaje a Través de la Adolescencia WEBINAR
BEGIN:VALARM
TRIGGER:-PT1440M
ACTION:DISPLAY
DESCRIPTION:Reminder
END:VALARM
END:VEVENT
END:VCALENDAR
