BEGIN:VCALENDAR
BEGIN:VEVENT
CLASS:PUBLIC
CREATED:20260423T030428
DESCRIPTION:¿Le parece abrumador y confuso el proceso del IEP? Únase a nosotros para aprender sobre educación especial, la terminología que se usa durante las reuniones y en los documentos del IEP, y consejos que le ayudarán a navegar con éxito por el sistema de educación especial.

Este taller con Magnolia Park FRC and FaCT (Families and Communities Together) se llevará a cabo utilizando Zoom. Después de registrarse, recibirá una invitación para unirse a la reunión de Zoom.
DTEND:20211116T110000
DTSTAMP:20260423T030428
DTSTART:20211116T090000
LAST-MODIFIED:20091109T101015Z
LOCATION:(ONLINE, with FACT), , , , 
SUMMARY;LANGUAGE=en-us:Navegando IEPs WEBINAR
BEGIN:VALARM
TRIGGER:-PT1440M
ACTION:DISPLAY
DESCRIPTION:Reminder
END:VALARM
END:VEVENT
END:VCALENDAR
