BEGIN:VCALENDAR
BEGIN:VEVENT
CLASS:PUBLIC
CREATED:20260423T014214
DESCRIPTION:In this webinar, we will introduce some great ideas for adapting everyday items for little or no cost, information on free software that can be accessed online or downloaded to your computer, and resources for free iPad applications that we have found to be helpful. We will also share information and resources on built in accessibility features on your computer and iDevices. Join us and learn how you can access assistive technology for free!

This workshop will be conducted using Zoom. After registering, you will receive an invitation to join the Zoom meeting.
DTEND:20211201T113000
DTSTAMP:20260423T014214
DTSTART:20211201T100000
LAST-MODIFIED:20091109T101015Z
LOCATION:(ONLINE), , , , 
SUMMARY;LANGUAGE=en-us:Fabulous Freebies: No-Cost Assistive Technology and Low-Cost Adaptation Ideas WEBINAR
BEGIN:VALARM
TRIGGER:-PT1440M
ACTION:DISPLAY
DESCRIPTION:Reminder
END:VALARM
END:VEVENT
END:VCALENDAR
