BEGIN:VCALENDAR
BEGIN:VEVENT
CLASS:PUBLIC
CREATED:20260423T043632
DESCRIPTION:¿Te has preguntado qué hacer cuando parece que la comunicación se ha interrumpido? Únase a nosotros para aprender técnicas para construir puentes de colaboración entre el hogar y la escuela.

Este taller se llevará con FERIA a cabo utilizando Zoom. Después de registrarse, recibirá una invitación para unirse a la reunión de Zoom.
DTEND:20210915T200000
DTSTAMP:20260423T043632
DTSTART:20210915T180000
LAST-MODIFIED:20091109T101015Z
LOCATION:(ONLINE, presented by TASK and FERIA), , , , 
SUMMARY;LANGUAGE=en-us:Habilidades de Comunicación Efectiva
BEGIN:VALARM
TRIGGER:-PT1440M
ACTION:DISPLAY
DESCRIPTION:Reminder
END:VALARM
END:VEVENT
END:VCALENDAR
