BEGIN:VCALENDAR
BEGIN:VEVENT
CLASS:PUBLIC
CREATED:20260423T044952
DESCRIPTION:This webinar provides an overview of the importance of parent input and ways to ensure that all the child’s needs are being considered when determining appropriate services and placement options.

This workshop will be conducted using Zoom. After registering, you will receive an invitation to join the Zoom meeting.
DTEND:20210826T200000
DTSTAMP:20260423T044952
DTSTART:20210826T180000
LAST-MODIFIED:20091109T101015Z
LOCATION:(ONLINE, in partnership with Magnolia Park FRC and FaCT), , , , 
SUMMARY;LANGUAGE=en-us:Assessment Process WEBINAR
BEGIN:VALARM
TRIGGER:-PT1440M
ACTION:DISPLAY
DESCRIPTION:Reminder
END:VALARM
END:VEVENT
END:VCALENDAR
