BEGIN:VCALENDAR
BEGIN:VEVENT
CLASS:PUBLIC
CREATED:20260423T030657
DESCRIPTION:This workshop provides a detailed overview of early intervention and transition services at age three to families and professionals who serve infants and toddlers with disabilities. It also includes information about procedural safeguards and tips and pointers for a successful transition.

This workshop will be conducted using Zoom. After registering, you will receive an invitation to join the Zoom meeting.
DTEND:20211001T113000
DTSTAMP:20260423T030657
DTSTART:20211001T103000
LAST-MODIFIED:20091109T101015Z
LOCATION:(ONLINE), , , , 
SUMMARY;LANGUAGE=en-us:Early Intervention and Transition Services WEBINAR
BEGIN:VALARM
TRIGGER:-PT1440M
ACTION:DISPLAY
DESCRIPTION:Reminder
END:VALARM
END:VEVENT
END:VCALENDAR
