BEGIN:VCALENDAR
BEGIN:VEVENT
CLASS:PUBLIC
CREATED:20260423T062014
DESCRIPTION:Navegando Duchenne es un programa educativo que aborda una variedad de temas para ayudar a los pacientes y sus familias a navegar el viaje de la distrofia muscular de Duchenne. Navegando Duchenne es un programa gratuito que está abierto a la comunidad de Duchenne. Al cubrir varios temas en el viaje de Duchenne, Navegando Duchenne espera empoderar,

Apoyar y conectar a los miembros de la comunidad.

Agenda del Programa

Navegando Educación Especial Durante COVID-19

Presentado por

Luisa Castillo, Especialista en Apoyo Familiar de TASK

Fecha y Ubicación
30 de junio del 2021
2:00pm PST/5:00pm EST

Programa Educativo Virtual con Preguntas y Respuestas en Vivo

https://ptcbio.zoom.us/j/93955928065?pwd=WlZRU2tYcHpvVTZtRGlNZFFJRkI0Zz09

US Gratis: 877 853 5247; Código de la reunión: 939 5592 8065; Contraseña: 057684

Acompáñenos para aprender de expertos y para conectarse con otros miembros de la comunidad Duchenne

Responda amablemente hoy enviando un mensaje a aflores@ptcbio.com

Para obtener más información sobre este evento, por favor comuníquese con aflores@ptcbio.com o llame al 908.202.2080
DTEND:20210630T160000
DTSTAMP:20260423T062014
DTSTART:20210630T140000
LAST-MODIFIED:20091109T101015Z
LOCATION:, , , , 
SUMMARY;LANGUAGE=en-us:Navegando Educación Especial durante COVID-19 WEBINAR
BEGIN:VALARM
TRIGGER:-PT1440M
ACTION:DISPLAY
DESCRIPTION:Reminder
END:VALARM
END:VEVENT
END:VCALENDAR
