BEGIN:VCALENDAR
BEGIN:VEVENT
CLASS:PUBLIC
CREATED:20260423T062202
DESCRIPTION:If you are a pre-teen, teen or young adult who is struggling with life challenges, this webinar is for you! Come join us to learn about concerns faced by you and your peers related to school closures/reopening, cyber bullying and mental health as well as strategies and resources to help you cope.

Parents are welcome! Strategies to help you help your teens will be provided.

Heather Calomese, California Department of Education, Director Special Education Division will be present for a portion of the webinar and will be providing some thoughts. This is a great opportunity to meet our state director of special education and to hear what she has to share with us!

This workshop will be conducted using Zoom. After registering, you will receive an invitation to join the Zoom meeting.
DTEND:20210610T160000
DTSTAMP:20260423T062202
DTSTART:20210610T140000
LAST-MODIFIED:20091109T101015Z
LOCATION:(ONLINE), , , , 
SUMMARY;LANGUAGE=en-us:Youth Voices Matter WEBINAR
BEGIN:VALARM
TRIGGER:-PT1440M
ACTION:DISPLAY
DESCRIPTION:Reminder
END:VALARM
END:VEVENT
END:VCALENDAR
