BEGIN:VCALENDAR
BEGIN:VEVENT
CLASS:PUBLIC
CREATED:20260423T062126
DESCRIPTION:Here at TASK we have over 3300 iOS apps! During this webinar, we will show you some of our favorite apps that are just plain old FUN! Of course, many of them can be considered helpful for skills such as fine motor, art, life skills and more, but honestly, these are simply apps that we find really entertaining and enjoyable for children and adults!

This workshop will be conducted using Zoom. After registering, you will receive an invitation to join the Zoom meeting.
DTEND:20210713T120000
DTSTAMP:20260423T062126
DTSTART:20210713T103000
LAST-MODIFIED:20091109T101015Z
LOCATION:(ONLINE), , , , 
SUMMARY;LANGUAGE=en-us:Favorite FUN Apps! WEBINAR
BEGIN:VALARM
TRIGGER:-PT1440M
ACTION:DISPLAY
DESCRIPTION:Reminder
END:VALARM
END:VEVENT
END:VCALENDAR
