BEGIN:VCALENDAR
BEGIN:VEVENT
CLASS:PUBLIC
CREATED:20260423T062110
DESCRIPTION:La parte 2 de nuestra serie Hablemos de Baja Tecnología de CAA incluye estrategias de implementación, ideas, consejos, trucos y términos clave. Presentaremos brevemente diferentes diseños de comunicación como PODD (Visualización dinámica de organización pragmática) y LAMP (Acceso al idioma a través de la planificación motora), así como otras opciones. También hablaremos del vocabulario básico y marginal (fringe vocabulary), PECS y el apoyo lingüístico asistido. ¡Acompáñenos a un seminario web divertido y aprenda a pensar fuera de la caja de CAA!

Este taller se llevará a cabo utilizando Zoom. Después de registrarse, recibirá una invitación para unirse a la reunión de Zoom.
DTEND:20210720T120000
DTSTAMP:20260423T062110
DTSTART:20210720T100000
LAST-MODIFIED:20091109T101015Z
LOCATION:(ONLINE), , , , 
SUMMARY;LANGUAGE=en-us:Hablemos de Baja Tecnología 2: CAA pensando Fuera de la Caja WEBINAR
BEGIN:VALARM
TRIGGER:-PT1440M
ACTION:DISPLAY
DESCRIPTION:Reminder
END:VALARM
END:VEVENT
END:VCALENDAR
