BEGIN:VCALENDAR
BEGIN:VEVENT
CLASS:PUBLIC
CREATED:20260423T075706
DESCRIPTION:Parent Connection is an online support group for parents of children with disabilities to connect, converse and share with their peers who are walking a similar journey. Participants will help to create a collaborative list of resources during our time together as a group. All parents of children with disabilities are welcome.

This session is intended for parents or guardians ONLY. If you are a professional, we encourage you to refer to the Calendar page on our website for other, more suitable training opportunities. We appreciate your help in making this a safe space for parents to speak candidly.

All conversations in this group are confidential and will NOT be recorded.

Parent Connection is NOT led by a mental health professional.

Parent Connection will be conducted via Zoom. Registration is required.
DTEND:20210525T110000
DTSTAMP:20260423T075706
DTSTART:20210525T100000
LAST-MODIFIED:20091109T101015Z
LOCATION:(ONLINE), , , , 
SUMMARY;LANGUAGE=en-us:Parent Connection (ONLINE SUPPORT GROUP)
BEGIN:VALARM
TRIGGER:-PT1440M
ACTION:DISPLAY
DESCRIPTION:Reminder
END:VALARM
END:VEVENT
END:VCALENDAR
