BEGIN:VCALENDAR
BEGIN:VEVENT
CLASS:PUBLIC
CREATED:20260423T075258
DESCRIPTION:Este seminario web proporciona una descripción general de la importancia de la opinión de los padres y las formas de garantizar que se consideren todas las necesidades del niño al determinar los servicios apropiados y las opciones de ubicación.

Este taller se llevará a cabo utilizando Zoom. Después de registrarse, recibirá una invitación para unirse a la reunión de Zoom.
DTEND:20210504T160000
DTSTAMP:20260423T075258
DTSTART:20210504T140000
LAST-MODIFIED:20091109T101015Z
LOCATION:(ONLINE), , , , 
SUMMARY;LANGUAGE=en-us:Proceso de Evaluación WEBINAR
BEGIN:VALARM
TRIGGER:-PT1440M
ACTION:DISPLAY
DESCRIPTION:Reminder
END:VALARM
END:VEVENT
END:VCALENDAR
