BEGIN:VCALENDAR
BEGIN:VEVENT
CLASS:PUBLIC
CREATED:20260423T075619
DESCRIPTION:¿Su hijo de secundaria tiene dificultades para leer, escribir o ambos? Si es así, acompáñenos a una presentación informativa que incluirá herramientas tecnológicas útiles, incluidas aplicaciones de iOS, extensiones de Google Chrome, sitios web y más.

Este taller con CALI Reads se llevará a cabo utilizando Zoom. Después de registrarse, recibirá una invitación para unirse a la reunión de Zoom.
DTEND:20210513T193000
DTSTAMP:20260423T075619
DTSTART:20210513T180000
LAST-MODIFIED:20091109T101015Z
LOCATION:, , , , 
SUMMARY;LANGUAGE=en-us:Apoyos de Lectura y Escritura para la Escuela Secundaria WEBINAR
BEGIN:VALARM
TRIGGER:-PT1440M
ACTION:DISPLAY
DESCRIPTION:Reminder
END:VALARM
END:VEVENT
END:VCALENDAR
