BEGIN:VCALENDAR
BEGIN:VEVENT
CLASS:PUBLIC
CREATED:20260423T075409
DESCRIPTION:Is your middle schooler struggling with reading, writing, or both? If so, please join us for an informative presentation that will include helpful technology tools including iOS apps, Google Chrome Extensions, websites and more!

This workshop will be conducted in partnership with CALI Reads using Zoom. After registering, you will receive an invitation to join the Zoom meeting.
DTEND:20210513T193000
DTSTAMP:20260423T075409
DTSTART:20210513T180000
LAST-MODIFIED:20091109T101015Z
LOCATION:, , , , 
SUMMARY;LANGUAGE=en-us:Reading and Writing Supports for Middle School WEBINAR
BEGIN:VALARM
TRIGGER:-PT1440M
ACTION:DISPLAY
DESCRIPTION:Reminder
END:VALARM
END:VEVENT
END:VCALENDAR
