BEGIN:VCALENDAR
BEGIN:VEVENT
CLASS:PUBLIC
CREATED:20260423T075258
DESCRIPTION:Este seminario web ofrece una sobrevista general detallada de los servicios de intervención temprana y transición a la edad de tres anos a familias y profesionales que sirven a bebés y niños pequeños con discapacidades. También incluye información sobre las garantías procesales y consejos y sugerencias para una transición exitosa.

Este taller con FERIA se llevará a cabo utilizando Zoom. Después de registrarse, recibirá una invitación para unirse a la reunión de Zoom.
DTEND:20210421T200000
DTSTAMP:20260423T075258
DTSTART:20210421T180000
LAST-MODIFIED:20091109T101015Z
LOCATION:(ONLINE, con FERIA), , , , 
SUMMARY;LANGUAGE=en-us:Intervencion Temprana y Servicios de Transición a los Tres Años WEBINAR
BEGIN:VALARM
TRIGGER:-PT1440M
ACTION:DISPLAY
DESCRIPTION:Reminder
END:VALARM
END:VEVENT
END:VCALENDAR
