BEGIN:VCALENDAR
BEGIN:VEVENT
CLASS:PUBLIC
CREATED:20260423T075746
DESCRIPTION:Es posible que haya oído hablar de la Ley de Educación para Personas con Discapacidades (IDEA) y la Sección 504 de la Ley de Rehabilitación, pero ¿sabía que existen otras leyes de educación que pertenecen a los estudiantes con discapacidades? Venga a este taller para aprender más sobre estas leyes y cómo ayudan a su hijo con una discapacidad a recibir educación.

Este taller se llevará a cabo utilizando Zoom. Después de registrarse, recibirá una invitación para unirse a la reunión de Zoom.
DTEND:20210413T200000
DTSTAMP:20260423T075746
DTSTART:20210413T180000
LAST-MODIFIED:20091109T101015Z
LOCATION:(ONLINE), , , , 
SUMMARY;LANGUAGE=en-us:Derechos Básicos y Responsabilidades WEBINAR
BEGIN:VALARM
TRIGGER:-PT1440M
ACTION:DISPLAY
DESCRIPTION:Reminder
END:VALARM
END:VEVENT
END:VCALENDAR
