BEGIN:VCALENDAR
BEGIN:VEVENT
CLASS:PUBLIC
CREATED:20260423T075557
DESCRIPTION:Este taller ofrece una descripción detallada de intervención temprana y de los servicios de transición a los tres años a las familias y los profesionales que trabajan con bebés y niños pequeños con discapacidades. También incluye información sobre garantías procesales y puntos y sugerencias para una transición exitosa.

Este taller se llevará a cabo utilizando Zoom. Después de registrarse, recibirá una invitación para unirse a la reunión de Zoom.
DTEND:20210506T150000
DTSTAMP:20260423T075557
DTSTART:20210506T140000
LAST-MODIFIED:20091109T101015Z
LOCATION:(ONLINE), , , , 
SUMMARY;LANGUAGE=en-us:Intervención Temprana y Servicios de Transición WEBINAR
BEGIN:VALARM
TRIGGER:-PT1440M
ACTION:DISPLAY
DESCRIPTION:Reminder
END:VALARM
END:VEVENT
END:VCALENDAR
