BEGIN:VCALENDAR
BEGIN:VEVENT
CLASS:PUBLIC
CREATED:20260423T092606
DESCRIPTION:¿Se ha preguntado qué pueden hacer los padres para ayudar a planificar la transición de su hijo de la escuela secundaria a la educación superior?

Únase a nosotros para aprender sobre consejos, recursos e información que lo ayudarán a trabajar con su hijo para tomar decisiones sobre la planificación de la vida después de la escuela secundaria, ayudarlo a planificar la transición de su hijo de la escuela secundaria a la vida adulta, comprender y participar en la Planificacion de Transición individualizada  (ITP), reunirse y trabajar con escuelas y agencias comunitarias para ayudar a allanar el camino para la educación después de la escuela secundaria.

Este taller se llevará a cabo utilizando Zoom. Después de registrarse, recibirá una invitación para unirse a la reunión de Zoom.
DTEND:20210331T183000
DTSTAMP:20260423T092606
DTSTART:20210331T163000
LAST-MODIFIED:20091109T101015Z
LOCATION:(ONLINE), , , , 
SUMMARY;LANGUAGE=en-us:Trazando Sueños: Transición A La Educación Postsecundaria WEBINAR
BEGIN:VALARM
TRIGGER:-PT1440M
ACTION:DISPLAY
DESCRIPTION:Reminder
END:VALARM
END:VEVENT
END:VCALENDAR
