BEGIN:VCALENDAR
BEGIN:VEVENT
CLASS:PUBLIC
CREATED:20260423T075206
DESCRIPTION:¿Le parece abrumador y confuso el proceso del IEP? Únase a nosotros para aprender sobre educación especial, la terminología que se usa durante las reuniones y en los documentos del IEP, y consejos que le ayudarán a navegar con éxito por el sistema de educación especial durante la pandemia COVID-19.

Este taller se llevará a cabo utilizando Zoom. Después de registrarse, recibirá una invitación para unirse a la reunión de Zoom.
DTEND:20210507T120000
DTSTAMP:20260423T075206
DTSTART:20210507T100000
LAST-MODIFIED:20091109T101015Z
LOCATION:(ONLINE), , , , 
SUMMARY;LANGUAGE=en-us:Navegando Educación Especial durante COVID-19 WEBINAR
BEGIN:VALARM
TRIGGER:-PT1440M
ACTION:DISPLAY
DESCRIPTION:Reminder
END:VALARM
END:VEVENT
END:VCALENDAR
