BEGIN:VCALENDAR
BEGIN:VEVENT
CLASS:PUBLIC
CREATED:20260423T075700
DESCRIPTION:Un repaso general de los cuatro derechos básicos y protecciones debajo de IDEA, un breve repaso de la Sección 504 de la Acta de Rehabilitación, y una explicación de cómo mantener los archivos y el proceso de evaluación.

Este taller con Magnolia Park FRC se llevará a cabo utilizando Zoom. Después de registrarse, recibirá una invitación para unirse a la reunión de Zoom.
DTEND:20210427T113000
DTSTAMP:20260423T075700
DTSTART:20210427T100000
LAST-MODIFIED:20091109T101015Z
LOCATION:(ONLINE), , , , 
SUMMARY;LANGUAGE=en-us:Derechos Basicos y Responsabilidades WEBINAR
BEGIN:VALARM
TRIGGER:-PT1440M
ACTION:DISPLAY
DESCRIPTION:Reminder
END:VALARM
END:VEVENT
END:VCALENDAR
