BEGIN:VCALENDAR
BEGIN:VEVENT
CLASS:PUBLIC
CREATED:20260423T092204
DESCRIPTION:Have you wondered what parents can do to help plan for their child’s transition from high school to postsecondary education? Come join us to learn about tips, resources and information to help you work with your child to make decisions about planning for life after high school, help you plan for your child’s transition from high school to adult life, understand and participate in the Individual Transition Plan (ITP) meeting and work with schools and community agencies to help pave the way for education after high school.

This workshop will be conducted using Zoom. After registering, you will receive an invitation to join the Zoom meeting.
DTEND:20210325T200000
DTSTAMP:20260423T092204
DTSTART:20210325T180000
LAST-MODIFIED:20091109T101015Z
LOCATION:(ONLINE), , , , 
SUMMARY;LANGUAGE=en-us:Mapping Dreams: Transition to Postsecondary Education WEBINAR
BEGIN:VALARM
TRIGGER:-PT1440M
ACTION:DISPLAY
DESCRIPTION:Reminder
END:VALARM
END:VEVENT
END:VCALENDAR
