BEGIN:VCALENDAR
BEGIN:VEVENT
CLASS:PUBLIC
CREATED:20260423T061932
DESCRIPTION:¿Qué es el CAA (AAC)? ¿Qué es tecnología baja versus tecnología alta? Este seminario web incluye una explicación completa de la comunicación aumentativa y alternativa, los tipos de CAA de tecnología baja y media disponibles, una explicación de varios símbolos de comunicación y más.

Este taller se llevará a cabo utilizando Zoom. Después de registrarse, recibirá una invitación para unirse a la reunión de Zoom
DTEND:20210625T153000
DTSTAMP:20260423T061932
DTSTART:20210625T140000
LAST-MODIFIED:20091109T101015Z
LOCATION:(ONLINE), , , , 
SUMMARY;LANGUAGE=en-us:Hablemos de Baja Tecnología: Conceptos Básicos de CAA (AAC) WEBINAR
BEGIN:VALARM
TRIGGER:-PT1440M
ACTION:DISPLAY
DESCRIPTION:Reminder
END:VALARM
END:VEVENT
END:VCALENDAR
