BEGIN:VCALENDAR
BEGIN:VEVENT
CLASS:PUBLIC
CREATED:20260423T061933
DESCRIPTION:What is AAC? What is low tech vs. high tech? This workshop includes a thorough explanation of Augmentative and Alternative Communication, types of low and mid tech AAC available, an explanation of various communication symbols and more. Handouts will include a list of free low tech AAC resources available. Join us for a fun, informative webinar learning about low and mid tech AAC!

This workshop will be conducted using Zoom. After registering, you will receive an invitation to join the Zoom meeting.
DTEND:20210625T113000
DTSTAMP:20260423T061933
DTSTART:20210625T100000
LAST-MODIFIED:20091109T101015Z
LOCATION:(ONLINE), , , , 
SUMMARY;LANGUAGE=en-us:Let’s Talk Low Tech: AAC Basics WEBINAR
BEGIN:VALARM
TRIGGER:-PT1440M
ACTION:DISPLAY
DESCRIPTION:Reminder
END:VALARM
END:VEVENT
END:VCALENDAR
