BEGIN:VCALENDAR
BEGIN:VEVENT
CLASS:PUBLIC
CREATED:20260423T105411
DESCRIPTION:En este seminario web, presentaremos algunas buenas ideas para la adaptación de elementos cotidianos a bajo costo o sin costo, información sobre programas de la computadora gratuitos que se puede acceder en línea o descargar a su computadora, y recursos para aplicaciones gratuitas de iPad que hemos encontrado útiles. También compartiremos información y recursos sobre funciones de accesibilidad integradas en su computadora e iDevices. ¡Acompáñenos a un taller divertido y aprenda cómo tener acceso a la tecnología de forma gratuita!

Este taller se llevará a cabo utilizando Zoom. Después de registrarse, recibirá una invitación para unirse a la reunión de Zoom.
DTEND:20210125T193000
DTSTAMP:20260423T105411
DTSTART:20210125T180000
LAST-MODIFIED:20091109T101015Z
LOCATION:(ONLINE), , , , 
SUMMARY;LANGUAGE=en-us:Tecnología Fabulosa: Ideas de Adaptación sin Costo y de Bajo Costo WEBINAR
BEGIN:VALARM
TRIGGER:-PT1440M
ACTION:DISPLAY
DESCRIPTION:Reminder
END:VALARM
END:VEVENT
END:VCALENDAR
