BEGIN:VCALENDAR
BEGIN:VEVENT
CLASS:PUBLIC
CREATED:20260423T105411
DESCRIPTION:Acompañe a TASK y a Disability Rights California a un seminario de web sobre como navegar educación especial durante este tiempo dificultoso y incierto. Este seminario web proporcionara una descripción general de las diferentes leyes relacionadas con educación especial durante COVID-19, explicara orientación emitida por el estado, y compartirá consejos para ayudar a los padres a participar efectivamente en reuniones de IEP y comunicarse con los distritos escolares.

Este taller se llevará a cabo utilizando Zoom. Después de registrarse, recibirá una invitación para unirse a la reunión de Zoom.
DTEND:20210119T200000
DTSTAMP:20260423T105411
DTSTART:20210119T180000
LAST-MODIFIED:20091109T101015Z
LOCATION:(ONLINE), , , , 
SUMMARY;LANGUAGE=en-us:Accediendo a Educación Especial  Durante COVID-19 WEBINAR
BEGIN:VALARM
TRIGGER:-PT1440M
ACTION:DISPLAY
DESCRIPTION:Reminder
END:VALARM
END:VEVENT
END:VCALENDAR
