BEGIN:VCALENDAR
BEGIN:VEVENT
CLASS:PUBLIC
CREATED:20260423T105455
DESCRIPTION:Join TASK and Disability Rights California for a webinar about navigating special education during this difficult and uncertain time. This webinar will provide an overview of the different laws related to special education during COVID-19, explain guidance issued by the state, and share tips to help parents effectively participate in IEP meetings and communicate with school districts.

This workshop will be conducted using Zoom. After registering, you will receive an invitation to join the Zoom meeting.
DTEND:20210120T200000
DTSTAMP:20260423T105455
DTSTART:20210120T180000
LAST-MODIFIED:20091109T101015Z
LOCATION:(ONLINE, with Disability Rights California), , , , 
SUMMARY;LANGUAGE=en-us:Accessing Special Education During COVID-19 WEBINAR
BEGIN:VALARM
TRIGGER:-PT1440M
ACTION:DISPLAY
DESCRIPTION:Reminder
END:VALARM
END:VEVENT
END:VCALENDAR
