BEGIN:VCALENDAR
BEGIN:VEVENT
CLASS:PUBLIC
CREATED:20260423T105258
DESCRIPTION:Lo invitamos a unirse a nosotros para aprender cómo abogar por sí mismo por adaptaciones en el lugar de trabajo. Nosotros cubriremos la importancia de la conciencia de la discapacidad, la autodefensa, la divulgación de la discapacidad y cómo solicitar adaptaciones laborales.

El seminario web está diseñado para jóvenes de 14 años en adelante. Los padres son bienvenidos.

Este taller se llevará a cabo utilizando Zoom. Después de registrarse, recibirá una invitación para unirse a la reunión de Zoom.
DTEND:20210107T170000
DTSTAMP:20260423T105258
DTSTART:20210107T153000
LAST-MODIFIED:20091109T101015Z
LOCATION:(ONLINE), , , , 
SUMMARY;LANGUAGE=en-us:Conciencia Sobre la Discapacidad: Auto-Defensa en el Trabajo WEBINAR
BEGIN:VALARM
TRIGGER:-PT1440M
ACTION:DISPLAY
DESCRIPTION:Reminder
END:VALARM
END:VEVENT
END:VCALENDAR
