BEGIN:VCALENDAR
BEGIN:VEVENT
CLASS:PUBLIC
CREATED:20260423T105449
DESCRIPTION:Un repaso general de los cuatro derechos básicos y protecciones debajo de IDEA, un breve repaso de la Sección 504 de la Acta de Rehabilitación, y una explicación de cómo mantener los archivos y el proceso de evaluación.

Este taller se llevará a cabo utilizando Zoom. Después de registrarse, recibirá una invitación para unirse a la reunión de Zoom.
DTEND:20210122T173000
DTSTAMP:20260423T105449
DTSTART:20210122T160000
LAST-MODIFIED:20091109T101015Z
LOCATION:(ONLINE, con Magnolia Park FRC), , , , 
SUMMARY;LANGUAGE=en-us:Derechos Básicos y Responsabilidades (Magnolia Park FRC)
BEGIN:VALARM
TRIGGER:-PT1440M
ACTION:DISPLAY
DESCRIPTION:Reminder
END:VALARM
END:VEVENT
END:VCALENDAR
