BEGIN:VCALENDAR
BEGIN:VEVENT
CLASS:PUBLIC
CREATED:20260423T105431
DESCRIPTION:Come join us to learn how to self-advocate for accommodations in the workplace. We will cover the importance of disability awareness, self-advocacy, disability disclosure and how to request accommodations in the workplace.

This webinar is geared for youth ages 14 and up. Parents are welcome.

This workshop will be conducted using Zoom. After registering, you will receive an invitation to join the Zoom meeting.
DTEND:20210105T193000
DTSTAMP:20260423T105431
DTSTART:20210105T180000
LAST-MODIFIED:20091109T101015Z
LOCATION:(ONLINE), , , , 
SUMMARY;LANGUAGE=en-us:Disability Awareness: Self-Advocacy in the Workplace WEBINAR
BEGIN:VALARM
TRIGGER:-PT1440M
ACTION:DISPLAY
DESCRIPTION:Reminder
END:VALARM
END:VEVENT
END:VCALENDAR
