BEGIN:VCALENDAR
BEGIN:VEVENT
CLASS:PUBLIC
CREATED:20260423T105411
DESCRIPTION:Join us as we demonstrate apps that facilitate early learning for young children with special needs, ages zero to five. Apps will include preschool concepts, early literacy, fine motor skills and more! Join us for a fun-filled, fast-paced webinar!

This workshop will be conducted using Zoom. After registering, you will receive an invitation to join the Zoom meeting.
DTEND:20210122T110000
DTSTAMP:20260423T105411
DTSTART:20210122T100000
LAST-MODIFIED:20091109T101015Z
LOCATION:(ONLINE), , , , 
SUMMARY;LANGUAGE=en-us:Apps for Early Learning WEBINAR
BEGIN:VALARM
TRIGGER:-PT1440M
ACTION:DISPLAY
DESCRIPTION:Reminder
END:VALARM
END:VEVENT
END:VCALENDAR
