BEGIN:VCALENDAR
BEGIN:VEVENT
CLASS:PUBLIC
CREATED:20260423T105229
DESCRIPTION:Este taller fue desarrollado por el Centro Nacional de Prevención del Bullying de PACER. Está destinado a que los padres y los profesionales exploren la dinámica del acoso escolar para que puedan aprender qué hacer y ayudar a los niños a abordar el problema. Los temas consisten en: quién es acosado; por qué los niños son intimidados; el papel que juegan las escuelas; leyes y políticas publicitarias; y estrategias de prevención del acoso escolar.

Este taller se llevará a cabo utilizando Zoom. Después de registrarse, recibirá una invitación para unirse a la reunión de Zoom.
DTEND:20201217T200000
DTSTAMP:20260423T105229
DTSTART:20201217T180000
LAST-MODIFIED:20091109T101015Z
LOCATION:(ONLINE), , , , 
SUMMARY;LANGUAGE=en-us:Prevención de Bullying: Responsabilidad de Todos WEBINAR
BEGIN:VALARM
TRIGGER:-PT1440M
ACTION:DISPLAY
DESCRIPTION:Reminder
END:VALARM
END:VEVENT
END:VCALENDAR
