BEGIN:VCALENDAR
BEGIN:VEVENT
CLASS:PUBLIC
CREATED:20260423T105455
DESCRIPTION:This workshop was developed by PACER’s National Bullying Prevention Center. It is intended for parents and professionals to explore the dynamics of bullying so they can learn what to do and help children address the issue. Topics consist of: who is bullied; why children are bullied; the role schools play; laws and policies; and bullying prevention strategies.

This workshop will be conducted using Zoom. After registering, you will receive an invitation to join the Zoom meeting.
DTEND:20201215T200000
DTSTAMP:20260423T105455
DTSTART:20201215T180000
LAST-MODIFIED:20091109T101015Z
LOCATION:(ONLINE), , , , 
SUMMARY;LANGUAGE=en-us:Bullying Prevention: What Parents Need to Know WEBINAR
BEGIN:VALARM
TRIGGER:-PT1440M
ACTION:DISPLAY
DESCRIPTION:Reminder
END:VALARM
END:VEVENT
END:VCALENDAR
