BEGIN:VCALENDAR
BEGIN:VEVENT
CLASS:PUBLIC
CREATED:20260423T122542
DESCRIPTION:¿Se ha preguntado qué pueden hacer los padres y los jóvenes para ayudar a planificar la transición de la escuela secundaria a la vida adulta?

Únase a nosotros para recibir recursos e información para ayudar a los padres y jóvenes a comprender y participar en el desarrollo del Plan de transición individual; trabajar con escuelas y agencias como la Administración del Seguro Social, el Departamento de Rehabilitación y el Centro Regional para apoyar a los jóvenes en su transición a la edad adulta; y desarrollar estrategias para ayudar a los jóvenes a vivir de manera independiente y convertirse en auto-abogadores más fuertes.

Esta es una sesión de capacitación para adultos jóvenes con discapacidades y sus familias; ¡Animamos la participación de los jóvenes en este taller!

Este taller se llevará a cabo utilizando Zoom. Después de registrarse, recibirá una invitación para unirse a la reunión de Zoom.
DTEND:20201119T200000
DTSTAMP:20260423T122542
DTSTART:20201119T180000
LAST-MODIFIED:20091109T101015Z
LOCATION:(ONLINE), , , , 
SUMMARY;LANGUAGE=en-us:Transición a la Vida Postsecundaria WEBINAR
BEGIN:VALARM
TRIGGER:-PT1440M
ACTION:DISPLAY
DESCRIPTION:Reminder
END:VALARM
END:VEVENT
END:VCALENDAR
