BEGIN:VCALENDAR
BEGIN:VEVENT
CLASS:PUBLIC
CREATED:20260423T122639
DESCRIPTION:There are many communication apps available in the iOS and Android markets. This webinar will make you acquainted with the most common apps available today and provide you with an understanding of the fundamental differences. A feature matching approach will be used along with demonstrations to explore AAC options for tablet users.

This workshop will be conducted using Zoom. After registering, you will receive an invitation to join the Zoom meeting.
DTEND:20201123T110000
DTSTAMP:20260423T122639
DTSTART:20201123T093000
LAST-MODIFIED:20091109T101015Z
LOCATION:(ONLINE), , , , 
SUMMARY;LANGUAGE=en-us:Communication Confusion: Sorting through AAC Apps WEBINAR
BEGIN:VALARM
TRIGGER:-PT1440M
ACTION:DISPLAY
DESCRIPTION:Reminder
END:VALARM
END:VEVENT
END:VCALENDAR
