BEGIN:VCALENDAR
BEGIN:VEVENT
CLASS:PUBLIC
CREATED:20260423T122522
DESCRIPTION:Se ha preguntado qué pueden hacer los padres para ayudar a planear la transición de su hijo de la escuela secundaria al empleo, la educación o la capacitación postsecundaria y la vida independiente? En esta sección del taller de Trazando Sueños nos enfocamos en la transición a la vida independiente, explorando opciones, estableciendo un destino y trazando un curso para el futuro de su hijo/a.

Este taller se llevará a cabo utilizando Zoom. Después de registrarse, recibirá una invitación para unirse a la reunión de Zoom.
DTEND:20201020T120000
DTSTAMP:20260423T122522
DTSTART:20201020T100000
LAST-MODIFIED:20091109T101015Z
LOCATION:(ONLINE), , , , 
SUMMARY;LANGUAGE=en-us:Trazando Sueños: La Transicion a la Vida Independiente WEBINAR
BEGIN:VALARM
TRIGGER:-PT1440M
ACTION:DISPLAY
DESCRIPTION:Reminder
END:VALARM
END:VEVENT
END:VCALENDAR
