BEGIN:VCALENDAR
BEGIN:VEVENT
CLASS:PUBLIC
CREATED:20260423T122553
DESCRIPTION:Have you wondered what parents can do to help plan for their child’s transition from high school to adult independent living? Come join us to learn tips, resources and information to help you work with your child to make decisions about planning for life after high school, plan your child’s transition from high school to adult independent living, understand and participate in the Individual Transition Plan meeting and work with schools and community agencies to help pave the way for independent living after high school.

This workshop will be conducted using Zoom. After registering, you will receive an invitation to join the Zoom meeting.
DTEND:20201020T193000
DTSTAMP:20260423T122553
DTSTART:20201020T180000
LAST-MODIFIED:20091109T101015Z
LOCATION:(ONLINE), , , , 
SUMMARY;LANGUAGE=en-us:Mapping Dreams: Transition to Independent Living WEBINAR
BEGIN:VALARM
TRIGGER:-PT1440M
ACTION:DISPLAY
DESCRIPTION:Reminder
END:VALARM
END:VEVENT
END:VCALENDAR
