BEGIN:VCALENDAR
BEGIN:VEVENT
CLASS:PUBLIC
CREATED:20260423T105542
DESCRIPTION:Se da una descripción de la importancia en la opinión de los padres y las maneras de asegurar que todas las necesidades del niño sean consideradas cuando se determinan los servicios apropiados y las opciones de colocación.

Este taller se llevará a cabo utilizando Zoom. Después de registrarse, recibirá una invitación para unirse a la reunión de Zoom.
DTEND:20201209T183000
DTSTAMP:20260423T105542
DTSTART:20201209T170000
LAST-MODIFIED:20091109T101015Z
LOCATION:(ONLINE, con Magnolia Park FRC), , , , 
SUMMARY;LANGUAGE=en-us:Proceso de Evaluación WEBINAR
BEGIN:VALARM
TRIGGER:-PT1440M
ACTION:DISPLAY
DESCRIPTION:Reminder
END:VALARM
END:VEVENT
END:VCALENDAR
